BEGIN:VCALENDAR
VERSION:2.0
PRODID:-//The Scout Association of Malta - ECPv6.15.20//NONSGML v1.0//EN
CALSCALE:GREGORIAN
METHOD:PUBLISH
X-ORIGINAL-URL:https://scouts.mt
X-WR-CALDESC:Events for The Scout Association of Malta
REFRESH-INTERVAL;VALUE=DURATION:PT1H
X-Robots-Tag:noindex
X-PUBLISHED-TTL:PT1H
BEGIN:VTIMEZONE
TZID:Europe/Helsinki
BEGIN:DAYLIGHT
TZOFFSETFROM:+0200
TZOFFSETTO:+0300
TZNAME:EEST
DTSTART:20240331T010000
END:DAYLIGHT
BEGIN:STANDARD
TZOFFSETFROM:+0300
TZOFFSETTO:+0200
TZNAME:EET
DTSTART:20241027T010000
END:STANDARD
BEGIN:DAYLIGHT
TZOFFSETFROM:+0200
TZOFFSETTO:+0300
TZNAME:EEST
DTSTART:20250330T010000
END:DAYLIGHT
BEGIN:STANDARD
TZOFFSETFROM:+0300
TZOFFSETTO:+0200
TZNAME:EET
DTSTART:20251026T010000
END:STANDARD
BEGIN:DAYLIGHT
TZOFFSETFROM:+0200
TZOFFSETTO:+0300
TZNAME:EEST
DTSTART:20260329T010000
END:DAYLIGHT
BEGIN:STANDARD
TZOFFSETFROM:+0300
TZOFFSETTO:+0200
TZNAME:EET
DTSTART:20261025T010000
END:STANDARD
END:VTIMEZONE
BEGIN:VEVENT
DTSTART;TZID=Europe/Helsinki:20250305T183000
DTEND;TZID=Europe/Helsinki:20250305T200000
DTSTAMP:20260422T060153
CREATED:20241202T152420Z
LAST-MODIFIED:20241202T152420Z
UID:6423-1741199400-1741204800@scouts.mt
SUMMARY:Getting Started Course 002/25
DESCRIPTION:
URL:https://scouts.mt/event/getting-started-course-002-25/
LOCATION:Online
CATEGORIES:Training
ATTACH;FMTTYPE=image/png:https://scouts.mt/wp-content/uploads/2024/12/16.png
ORGANIZER;CN="Training Department":MAILTO:training@scouts.mt
END:VEVENT
BEGIN:VEVENT
DTSTART;TZID=Europe/Helsinki:20250314T180000
DTEND;TZID=Europe/Helsinki:20250316T120000
DTSTAMP:20260422T060153
CREATED:20241202T154308Z
LAST-MODIFIED:20250216T105158Z
UID:6442-1741975200-1742126400@scouts.mt
SUMMARY:Advanced Woodbadge Course 001/25
DESCRIPTION:Cost includes Food and Drinks\, Premises\, and Training Materials.
URL:https://scouts.mt/event/advanced-woodbadge-course-001-25/
CATEGORIES:Training
ATTACH;FMTTYPE=image/png:https://scouts.mt/wp-content/uploads/2024/12/17.png
ORGANIZER;CN="Training Department":MAILTO:training@scouts.mt
END:VEVENT
END:VCALENDAR