BEGIN:VCALENDAR
VERSION:2.0
PRODID:-//The Scout Association of Malta - ECPv6.15.20//NONSGML v1.0//EN
CALSCALE:GREGORIAN
METHOD:PUBLISH
X-WR-CALNAME:The Scout Association of Malta
X-ORIGINAL-URL:https://scouts.mt
X-WR-CALDESC:Events for The Scout Association of Malta
REFRESH-INTERVAL;VALUE=DURATION:PT1H
X-Robots-Tag:noindex
X-PUBLISHED-TTL:PT1H
BEGIN:VTIMEZONE
TZID:Europe/Helsinki
BEGIN:DAYLIGHT
TZOFFSETFROM:+0200
TZOFFSETTO:+0300
TZNAME:EEST
DTSTART:20250330T010000
END:DAYLIGHT
BEGIN:STANDARD
TZOFFSETFROM:+0300
TZOFFSETTO:+0200
TZNAME:EET
DTSTART:20251026T010000
END:STANDARD
BEGIN:DAYLIGHT
TZOFFSETFROM:+0200
TZOFFSETTO:+0300
TZNAME:EEST
DTSTART:20260329T010000
END:DAYLIGHT
BEGIN:STANDARD
TZOFFSETFROM:+0300
TZOFFSETTO:+0200
TZNAME:EET
DTSTART:20261025T010000
END:STANDARD
BEGIN:DAYLIGHT
TZOFFSETFROM:+0200
TZOFFSETTO:+0300
TZNAME:EEST
DTSTART:20270328T010000
END:DAYLIGHT
BEGIN:STANDARD
TZOFFSETFROM:+0300
TZOFFSETTO:+0200
TZNAME:EET
DTSTART:20271031T010000
END:STANDARD
END:VTIMEZONE
BEGIN:VEVENT
DTSTART;TZID=Europe/Helsinki:20260228T083000
DTEND;TZID=Europe/Helsinki:20260301T130000
DTSTAMP:20260422T113136
CREATED:20251208T125710Z
LAST-MODIFIED:20260111T170640Z
UID:7283-1772267400-1772370000@scouts.mt
SUMMARY:Pathfinder Course - PF001/26
DESCRIPTION:The Pathfinder Course is open\, and one can apply through OSM. If you are interested\, approach your GSL and request that he/she accepts the invite and shares it with you to be able to confirm your attendance and receive the relevant information. \nCost includes Food and Drinks\, Premises\, Training Materials and Badge.
URL:https://scouts.mt/event/pathfinder-course-pf001-26/
LOCATION:Rinella Scout Centre
CATEGORIES:Training
ATTACH;FMTTYPE=image/png:https://scouts.mt/wp-content/uploads/2025/12/scouts.mt_.png
ORGANIZER;CN="Training Department":MAILTO:training@scouts.mt
END:VEVENT
BEGIN:VEVENT
DTSTART;TZID=Europe/Helsinki:20260312T180000
DTEND;TZID=Europe/Helsinki:20260314T120000
DTSTAMP:20260422T113136
CREATED:20251208T125446Z
LAST-MODIFIED:20260205T201059Z
UID:7281-1773338400-1773489600@scouts.mt
SUMMARY:Skills Course - Mapping and Orienteering - SC 003/26
DESCRIPTION:The Skills Course – Mapping and Orienteering is open\, and one can apply through OSM. If you are interested\, approach your GSL and request that he/she accepts the invite and shares it with you to be able to confirm your attendance and receive the relevant information. \nSession 1 is on Thursday 12th March at 18:00 till 21:00 \nSession 2 is on Saturday 14th March at 9:00 till 12:00
URL:https://scouts.mt/event/skills-course-mapping-and-orienteering-sc-003-26/
LOCATION:Santa Venera HQ\, Triq Patri Gwann Azzopardi\, Santa Venera\, HMR 1182\, Malta
CATEGORIES:Training
ATTACH;FMTTYPE=image/png:https://scouts.mt/wp-content/uploads/2025/12/scouts_poster_arranged.png
ORGANIZER;CN="Training Department":MAILTO:training@scouts.mt
END:VEVENT
END:VCALENDAR