BEGIN:VCALENDAR
VERSION:2.0
PRODID:-//The Scout Association of Malta - ECPv6.15.20//NONSGML v1.0//EN
CALSCALE:GREGORIAN
METHOD:PUBLISH
X-ORIGINAL-URL:https://scouts.mt
X-WR-CALDESC:Events for The Scout Association of Malta
REFRESH-INTERVAL;VALUE=DURATION:PT1H
X-Robots-Tag:noindex
X-PUBLISHED-TTL:PT1H
BEGIN:VTIMEZONE
TZID:Europe/Helsinki
BEGIN:DAYLIGHT
TZOFFSETFROM:+0200
TZOFFSETTO:+0300
TZNAME:EEST
DTSTART:20250330T010000
END:DAYLIGHT
BEGIN:STANDARD
TZOFFSETFROM:+0300
TZOFFSETTO:+0200
TZNAME:EET
DTSTART:20251026T010000
END:STANDARD
BEGIN:DAYLIGHT
TZOFFSETFROM:+0200
TZOFFSETTO:+0300
TZNAME:EEST
DTSTART:20260329T010000
END:DAYLIGHT
BEGIN:STANDARD
TZOFFSETFROM:+0300
TZOFFSETTO:+0200
TZNAME:EET
DTSTART:20261025T010000
END:STANDARD
BEGIN:DAYLIGHT
TZOFFSETFROM:+0200
TZOFFSETTO:+0300
TZNAME:EEST
DTSTART:20270328T010000
END:DAYLIGHT
BEGIN:STANDARD
TZOFFSETFROM:+0300
TZOFFSETTO:+0200
TZNAME:EET
DTSTART:20271031T010000
END:STANDARD
END:VTIMEZONE
BEGIN:VEVENT
DTSTART;TZID=Europe/Helsinki:20260518T180000
DTEND;TZID=Europe/Helsinki:20260523T140000
DTSTAMP:20260421T153055
CREATED:20251208T130710Z
LAST-MODIFIED:20260306T161604Z
UID:7300-1779127200-1779544800@scouts.mt
SUMMARY:Skills Course - Axe & Knife\, fire light and backwoods - SC004/26
DESCRIPTION:Part 1: Monday 18th May from 6pm till 9pm \nPart 2: Saturday 23rd May from 10am till 2pm
URL:https://scouts.mt/event/skills-course-axe-knife-fire-light-and-backwoods-sc004-26/
LOCATION:Xghajra Campsite\, Triq Dwardu Ellul\, Ix-Xgħajra\, Malta
CATEGORIES:Training
ORGANIZER;CN="Training Department":MAILTO:training@scouts.mt
END:VEVENT
BEGIN:VEVENT
DTSTART;TZID=Europe/Helsinki:20260627T080000
DTEND;TZID=Europe/Helsinki:20260627T160000
DTSTAMP:20260421T153055
CREATED:20251208T131444Z
LAST-MODIFIED:20251208T131444Z
UID:7310-1782547200-1782576000@scouts.mt
SUMMARY:Basic First Aid Course 001/26
DESCRIPTION:
URL:https://scouts.mt/event/basic-first-aid-course-001-26/
CATEGORIES:Training
ORGANIZER;CN="Training Department":MAILTO:training@scouts.mt
END:VEVENT
BEGIN:VEVENT
DTSTART;VALUE=DATE:20260724
DTEND;VALUE=DATE:20260727
DTSTAMP:20260421T153055
CREATED:20251202T164706Z
LAST-MODIFIED:20251208T123131Z
UID:7229-1784851200-1785110399@scouts.mt
SUMMARY:WSJ2027: Participants Jamboree Camp
DESCRIPTION:
URL:https://scouts.mt/event/wsj2027-participants-jamboree-camp-2026/
CATEGORIES:International
END:VEVENT
BEGIN:VEVENT
DTSTART;VALUE=DATE:20260912
DTEND;VALUE=DATE:20260913
DTSTAMP:20260421T153055
CREATED:20251202T164746Z
LAST-MODIFIED:20251208T123131Z
UID:7231-1789171200-1789257599@scouts.mt
SUMMARY:WSJ2027: Participants Jamboree Event 1
DESCRIPTION:
URL:https://scouts.mt/event/wsj2027-participants-jamboree-event-1-2026/
CATEGORIES:International
END:VEVENT
BEGIN:VEVENT
DTSTART;VALUE=DATE:20260919
DTEND;VALUE=DATE:20260921
DTSTAMP:20260421T153055
CREATED:20251201T133803Z
LAST-MODIFIED:20251208T123131Z
UID:7214-1789776000-1789948799@scouts.mt
SUMMARY:Ventureathlon
DESCRIPTION:
URL:https://scouts.mt/event/ventureathlon-2026/
CATEGORIES:National
END:VEVENT
BEGIN:VEVENT
DTSTART;TZID=Europe/Helsinki:20260925T180000
DTEND;TZID=Europe/Helsinki:20260927T120000
DTSTAMP:20260421T153055
CREATED:20251208T130423Z
LAST-MODIFIED:20251208T130433Z
UID:7297-1790359200-1790510400@scouts.mt
SUMMARY:Advanced Woodbadge Course - ALC001/26
DESCRIPTION:Cost includes Food and Drinks\, Premises\, Training Materials and Scarf and Beads.
URL:https://scouts.mt/event/advanced-woodbadge-course-001-26/
LOCATION:Rinella Scout Centre
CATEGORIES:Training
ORGANIZER;CN="Training Department":MAILTO:training@scouts.mt
END:VEVENT
BEGIN:VEVENT
DTSTART;TZID=Europe/Helsinki:20260929T180000
DTEND;TZID=Europe/Helsinki:20261003T123000
DTSTAMP:20260421T153055
CREATED:20251208T130850Z
LAST-MODIFIED:20251208T130850Z
UID:7302-1790704800-1791030600@scouts.mt
SUMMARY:Skills Course - Pioneering and Knots - SC005/26
DESCRIPTION:
URL:https://scouts.mt/event/skills-course-pioneering-and-knots-sc005-26/
CATEGORIES:Training
ORGANIZER;CN="Training Department":MAILTO:training@scouts.mt
END:VEVENT
BEGIN:VEVENT
DTSTART;VALUE=DATE:20261010
DTEND;VALUE=DATE:20261011
DTSTAMP:20260421T153055
CREATED:20251202T164856Z
LAST-MODIFIED:20251208T123131Z
UID:7234-1791590400-1791676799@scouts.mt
SUMMARY:WSJ2027: Adults Jamboree Event 2
DESCRIPTION:
URL:https://scouts.mt/event/wsj2027-adults-jamboree-event-2-2026/
CATEGORIES:International
END:VEVENT
BEGIN:VEVENT
DTSTART;TZID=Europe/Helsinki:20261012T180000
DTEND;TZID=Europe/Helsinki:20261012T210000
DTSTAMP:20260421T153055
CREATED:20251208T131041Z
LAST-MODIFIED:20251208T131041Z
UID:7304-1791828000-1791838800@scouts.mt
SUMMARY:Skills Course - Planning a Camp and Camp Programme - SC006/26
DESCRIPTION:
URL:https://scouts.mt/event/skills-course-planning-a-camp-and-camp-programme-sc006-26/
CATEGORIES:Training
ORGANIZER;CN="Training Department":MAILTO:training@scouts.mt
END:VEVENT
BEGIN:VEVENT
DTSTART;TZID=Europe/Helsinki:20261013T183000
DTEND;TZID=Europe/Helsinki:20261013T200000
DTSTAMP:20260421T153055
CREATED:20251208T130116Z
LAST-MODIFIED:20251208T130116Z
UID:7291-1791916200-1791921600@scouts.mt
SUMMARY:Getting Started Course 003/26
DESCRIPTION:
URL:https://scouts.mt/event/getting-started-course-003-26/
LOCATION:Online
CATEGORIES:Training
ORGANIZER;CN="Training Department":MAILTO:training@scouts.mt
END:VEVENT
BEGIN:VEVENT
DTSTART;VALUE=DATE:20261016
DTEND;VALUE=DATE:20261019
DTSTAMP:20260421T153055
CREATED:20251201T133913Z
LAST-MODIFIED:20251208T123131Z
UID:7216-1792108800-1792367999@scouts.mt
SUMMARY:Jota-Joti
DESCRIPTION:
URL:https://scouts.mt/event/jota-joti-2026/
CATEGORIES:International
ATTACH;FMTTYPE=image/jpeg:https://scouts.mt/wp-content/uploads/2025/12/JOTA-JOTI_2026-scaled.jpg
END:VEVENT
BEGIN:VEVENT
DTSTART;TZID=Europe/Helsinki:20261023T180000
DTEND;TZID=Europe/Helsinki:20261025T120000
DTSTAMP:20260421T153055
CREATED:20251208T130316Z
LAST-MODIFIED:20251208T130316Z
UID:7295-1792778400-1792929600@scouts.mt
SUMMARY:Basic Course - BA002/26
DESCRIPTION:Cost includes Food and Drinks\, Premises\, Training Materials and Leather Woggle.
URL:https://scouts.mt/event/basic-course-ba002-26/
CATEGORIES:Training
ORGANIZER;CN="Training Department":MAILTO:training@scouts.mt
END:VEVENT
BEGIN:VEVENT
DTSTART;VALUE=DATE:20261031
DTEND;VALUE=DATE:20261101
DTSTAMP:20260421T153055
CREATED:20251202T164931Z
LAST-MODIFIED:20251208T123131Z
UID:7236-1793404800-1793491199@scouts.mt
SUMMARY:WSJ2027: Participants Jamboree Event 2
DESCRIPTION:
URL:https://scouts.mt/event/wsj2027-participants-jamboree-event-2-2026/
CATEGORIES:International
END:VEVENT
BEGIN:VEVENT
DTSTART;VALUE=DATE:20261107
DTEND;VALUE=DATE:20261108
DTSTAMP:20260421T153055
CREATED:20251201T134010Z
LAST-MODIFIED:20251208T123131Z
UID:7219-1794009600-1794095999@scouts.mt
SUMMARY:National Cub Event (Official Programme Launch)
DESCRIPTION:
URL:https://scouts.mt/event/national-cub-event-2026/
CATEGORIES:National
END:VEVENT
BEGIN:VEVENT
DTSTART;TZID=Europe/Helsinki:20261113T180000
DTEND;TZID=Europe/Helsinki:20261115T120000
DTSTAMP:20260421T153055
CREATED:20251208T125759Z
LAST-MODIFIED:20251208T125759Z
UID:7285-1794592800-1794744000@scouts.mt
SUMMARY:Pathfinder Course - PF002/26
DESCRIPTION:Cost includes Food and Drinks\, Premises\, Training Materials and Badge.
URL:https://scouts.mt/event/pathfinder-course-pf002-26/
CATEGORIES:Training
ORGANIZER;CN="Training Department":MAILTO:training@scouts.mt
END:VEVENT
BEGIN:VEVENT
DTSTART;VALUE=DATE:20261122
DTEND;VALUE=DATE:20261123
DTSTAMP:20260421T153055
CREATED:20251201T134058Z
LAST-MODIFIED:20251208T123131Z
UID:7221-1795305600-1795391999@scouts.mt
SUMMARY:Rover Day
DESCRIPTION:
URL:https://scouts.mt/event/rover-day-2026/
CATEGORIES:National
END:VEVENT
BEGIN:VEVENT
DTSTART;VALUE=DATE:20261128
DTEND;VALUE=DATE:20261129
DTSTAMP:20260421T153055
CREATED:20251201T134139Z
LAST-MODIFIED:20251208T123131Z
UID:7223-1795824000-1795910399@scouts.mt
SUMMARY:Annual General Assembly
DESCRIPTION:
URL:https://scouts.mt/event/aga-2026/
CATEGORIES:National
END:VEVENT
BEGIN:VEVENT
DTSTART;TZID=Europe/Helsinki:20261205T090000
DTEND;TZID=Europe/Helsinki:20261205T140000
DTSTAMP:20260421T153056
CREATED:20251208T131329Z
LAST-MODIFIED:20251208T131329Z
UID:7308-1796461200-1796479200@scouts.mt
SUMMARY:Food Handling Course - FH002/26
DESCRIPTION:
URL:https://scouts.mt/event/food-handling-course-fh002-26/
CATEGORIES:Training
ORGANIZER;CN="Training Department":MAILTO:training@scouts.mt
END:VEVENT
END:VCALENDAR