BEGIN:VCALENDAR
VERSION:2.0
PRODID:-//The Scout Association of Malta - ECPv6.15.20//NONSGML v1.0//EN
CALSCALE:GREGORIAN
METHOD:PUBLISH
X-WR-CALNAME:The Scout Association of Malta
X-ORIGINAL-URL:https://scouts.mt
X-WR-CALDESC:Events for The Scout Association of Malta
REFRESH-INTERVAL;VALUE=DURATION:PT1H
X-Robots-Tag:noindex
X-PUBLISHED-TTL:PT1H
BEGIN:VTIMEZONE
TZID:Europe/Helsinki
BEGIN:DAYLIGHT
TZOFFSETFROM:+0200
TZOFFSETTO:+0300
TZNAME:EEST
DTSTART:20230326T010000
END:DAYLIGHT
BEGIN:STANDARD
TZOFFSETFROM:+0300
TZOFFSETTO:+0200
TZNAME:EET
DTSTART:20231029T010000
END:STANDARD
BEGIN:DAYLIGHT
TZOFFSETFROM:+0200
TZOFFSETTO:+0300
TZNAME:EEST
DTSTART:20240331T010000
END:DAYLIGHT
BEGIN:STANDARD
TZOFFSETFROM:+0300
TZOFFSETTO:+0200
TZNAME:EET
DTSTART:20241027T010000
END:STANDARD
BEGIN:DAYLIGHT
TZOFFSETFROM:+0200
TZOFFSETTO:+0300
TZNAME:EEST
DTSTART:20250330T010000
END:DAYLIGHT
BEGIN:STANDARD
TZOFFSETFROM:+0300
TZOFFSETTO:+0200
TZNAME:EET
DTSTART:20251026T010000
END:STANDARD
END:VTIMEZONE
BEGIN:VEVENT
DTSTART;TZID=Europe/Helsinki:20240601T080000
DTEND;TZID=Europe/Helsinki:20240601T130000
DTSTAMP:20260423T105819
CREATED:20240526T084820Z
LAST-MODIFIED:20240526T090243Z
UID:6240-1717228800-1717246800@scouts.mt
SUMMARY:National Symposium 2024
DESCRIPTION:Theme: Strengthening our Organisation   \n\n\n\nDate: 1st June 2024 8am-1pm  \n\n\n\nPrice: Free  \n\n\n\nOpen to: All Leaders  \n\n\n\nLocation: De La Salle College  \n\n\n\nWorkshop Structure: In each round\, participants will have the opportunity to visit 3 different topics which are repeated every 30 minutes. Each topic will have a facilitator for the duration of the round. The facilitator will introduce the topic and initiate a discussion. For each topic there will be an online page (accessed by QR code from their phone) where participants can vote and add their feedback. At the plenary closing the preliminary feedback will be shown and after the Symposium the feedback will be collated and published into a document.    \n\n\n\nTentative Agenda:   \n\n\n\n0800 Registration & Coffee \n\n\n\n0830 Plenary Intro  \n\n\n\n0900 Round 1 (3 topics x 30 minutes)  \n\n\n\n1030 Coffee Break  \n\n\n\n1100 Round 2 (3 topics x 30 minutes)  \n\n\n\n1230 Plenary + Closing 
URL:https://scouts.mt/event/national-symposium-2024/
LOCATION:De La Salle College\, St Edward Street\, Birgu\, 9021\, Malta
CATEGORIES:National
ATTACH;FMTTYPE=image/webp:https://scouts.mt/wp-content/uploads/2024/05/nationalSymposium2024.webp
END:VEVENT
END:VCALENDAR